BEGIN:VCALENDAR
VERSION:2.0
PRODID:-//Lizard Lounge Club - ECPv6.10.0//NONSGML v1.0//EN
CALSCALE:GREGORIAN
METHOD:PUBLISH
X-WR-CALNAME:Lizard Lounge Club
X-ORIGINAL-URL:https://lizardloungeclub.com
X-WR-CALDESC:Events for Lizard Lounge Club
REFRESH-INTERVAL;VALUE=DURATION:PT1H
X-Robots-Tag:noindex
X-PUBLISHED-TTL:PT1H
BEGIN:VTIMEZONE
TZID:America/New_York
BEGIN:DAYLIGHT
TZOFFSETFROM:-0500
TZOFFSETTO:-0400
TZNAME:EDT
DTSTART:20230312T070000
END:DAYLIGHT
BEGIN:STANDARD
TZOFFSETFROM:-0400
TZOFFSETTO:-0500
TZNAME:EST
DTSTART:20231105T060000
END:STANDARD
END:VTIMEZONE
BEGIN:VEVENT
DTSTART;TZID=America/New_York:20230818T210000
DTEND;TZID=America/New_York:20230819T000000
DTSTAMP:20260421T120119
CREATED:20230708T205707Z
LAST-MODIFIED:20230818T213626Z
UID:10000045-1692392400-1692403200@lizardloungeclub.com
SUMMARY:Dub Apocalypse
DESCRIPTION:Dub Apocolypse returns to the Lizard Lounge!\n\n\nDub Apocalypse is an instrumental dub reggae band from Boston\, MA. Band members are Tommy Benedetti-drums\,Van Martin-guitar\,Johnny Trama-guitar\,Aaron Bellamy-bass\,and Timo Shanko-sax/bass. The band came together in 2007\, led by drummer Tommy Benedetti and guitarist\, Johnny Trama.Tommy Benedetti is one of the founding members of American Reggae Pioneers\,John Brown’s Body. He brings a wealth of experience from the reggae/dub scene to the table\,having recorded albums for the legendary Shanachie Label\,John Zorn’s Tzadik Label (mixed by Bill Laswell)\,and is currently with John Brown’s Body on Easy Star Records. This history is combined with almost 2 decades of International touring\,as well as backing some of the giants of Jamaican music\,including The Meditations and Justin Hinds. \nGuitarist Johnny Trama adds a soulful blues touch to the Dub Apocalypse signature sound.Trama has spent time on the road with the great Ron Levy\, BB King’s organ player\, as well as many other regional rock and soul/r&b acts. Not long after Dub Apocalypse came together\, longtime friend Timo Shanko entered the fold.A dual threat on both bass and saxophone\,Shanko is a veteran of the blues and free jazz scene.He spent many years on the road with Blues legend\, Eddie Kirkland\, as well as with G. Love and Special Sauce. Shanko is also a prolific composer\,and his improvisational stylings are an integral part of the Dub Apocalypse sound. Although DA started out as more of a collective\,in the past few years the lineup has solidified with the addition of bassist Aaron Bellamy and guitarist Van Martin. Bellamy is a longtime fixture in the Boston funk scene\,and in combination with Benedetti \,they form the deep\,militant sound at the core of Dub Apocalypse. \nOriginally hailing from Chicago\,Van Martin rounds out the lineup on guitar. Martin has much touring experience as well\, including appearances with Bernie Worrell and Big Daddy Kane. His sonic textures\,adventurous playing and songwriting have helped Dub Apocalypse take their sound to a new level. The DA sound is an evolving mix of original compositions and their own interpretations of classic Jamaican and UK songs and dub plates. Heavy hitting drum and bass grooves set the table. A twin guitar attack\, with Trama’s rhythmic anchor\,and Martin’s dub sonics\, swirl in and out in tandem. These pieces\, combined with Timo Shanko’s Coltrane inspired sax approach\, give Dub Apocalypse a
URL:https://lizardloungeclub.com/event/dub-apocalypse/
LOCATION:Lizard Lounge\, 1667 Massachusetts Avenue\, Cambridge\, MA\, 02138\, United States
ATTACH;FMTTYPE=image/jpeg:https://lizardloungeclub.com/wp-content/uploads/dd2929a6af8c43e176db11a90482d0fc.jpg
END:VEVENT
END:VCALENDAR