BEGIN:VCALENDAR
VERSION:2.0
PRODID:-//Lizard Lounge Club - ECPv6.10.0//NONSGML v1.0//EN
CALSCALE:GREGORIAN
METHOD:PUBLISH
X-ORIGINAL-URL:https://lizardloungeclub.com
X-WR-CALDESC:Events for Lizard Lounge Club
REFRESH-INTERVAL;VALUE=DURATION:PT1H
X-Robots-Tag:noindex
X-PUBLISHED-TTL:PT1H
BEGIN:VTIMEZONE
TZID:America/New_York
BEGIN:DAYLIGHT
TZOFFSETFROM:-0500
TZOFFSETTO:-0400
TZNAME:EDT
DTSTART:20240310T070000
END:DAYLIGHT
BEGIN:STANDARD
TZOFFSETFROM:-0400
TZOFFSETTO:-0500
TZNAME:EST
DTSTART:20241103T060000
END:STANDARD
END:VTIMEZONE
BEGIN:VEVENT
DTSTART;TZID=America/New_York:20240216T203000
DTEND;TZID=America/New_York:20240216T233000
DTSTAMP:20260421T090710
CREATED:20240107T152326Z
LAST-MODIFIED:20240217T073803Z
UID:10001230-1708115400-1708126200@lizardloungeclub.com
SUMMARY:Julie Rhodes\, Sinnet and Jon Nolan live at the Lizard Lounge
DESCRIPTION:Sinnet and Jon Nolan live at the Lizard Lounge!\n\n\nMedford residing graphic designer Aaron Spransy might just be feeling a little lucky. With a couple connections and a collection of demos\, Spransy finds himself entering the music community with ease. Having formed the band Sinnet\, named after his late mother’s license plate\, he is now gearing up to release their debut album Island Town. A blend of easy vibes dad-rock and indie punk. \nhttp://www.sinnetsongs.com/ \n\n\nJon Nolan lives in NH\, where summers are a precious reprieve from months of bitter cold and a few muddy weeks in between\, but also where fall is a consolation prize to the end of summer. A longtime frontman of New England alt-country pioneers Say ZuZu\, Jon explores the dreamier\, pop-infused parts of his Americana sensibility in his solo material. Geoff Taylor (bass)\, Zach Tremblay (guitar) and RIck Habib (drums) —- longtime friends —- formed Good Co. behind a new batch of Nolan songs in a barn in the summer of 2022\, focused on infusing the songs with the connection the bandmates found in each other while reconnecting as friends\, and with music. Say ZuZu’s newest release ”No Time to Lose” (Strolling Bones Records) is due March 10\, 2023. A third solo album backed by his band (Jon Nolan & Good Co.) is expected for release soon after. \nhttps://jonnolan.net/home \n\n\nBoston native Julie Rhodes musical career started “on a whim”. After singing along in the audience at a house show\, she was given some words of encouragement to write her own songs. That night\, she began writing her first song and before long she was recording her debut album with producer Jonah Tolchin. \nhttps://www.julierhodesmusic.com/
URL:https://lizardloungeclub.com/event/sinnet-and-jon-nolan-live-at-the-lizard-lounge/
LOCATION:Lizard Lounge\, 1667 Massachusetts Avenue\, Cambridge\, MA\, 02138\, United States
ATTACH;FMTTYPE=image/jpeg:https://lizardloungeclub.com/wp-content/uploads/aa684992bdfdd2e2e0a340f0a0555228.jpg
END:VEVENT
END:VCALENDAR