BEGIN:VCALENDAR
VERSION:2.0
PRODID:-//Lizard Lounge Club - ECPv6.10.0//NONSGML v1.0//EN
CALSCALE:GREGORIAN
METHOD:PUBLISH
X-ORIGINAL-URL:https://lizardloungeclub.com
X-WR-CALDESC:Events for Lizard Lounge Club
REFRESH-INTERVAL;VALUE=DURATION:PT1H
X-Robots-Tag:noindex
X-PUBLISHED-TTL:PT1H
BEGIN:VTIMEZONE
TZID:America/New_York
BEGIN:DAYLIGHT
TZOFFSETFROM:-0500
TZOFFSETTO:-0400
TZNAME:EDT
DTSTART:20240310T070000
END:DAYLIGHT
BEGIN:STANDARD
TZOFFSETFROM:-0400
TZOFFSETTO:-0500
TZNAME:EST
DTSTART:20241103T060000
END:STANDARD
END:VTIMEZONE
BEGIN:VEVENT
DTSTART;TZID=America/New_York:20240224T210000
DTEND;TZID=America/New_York:20240225T000000
DTSTAMP:20260421T073550
CREATED:20240119T173821Z
LAST-MODIFIED:20240219T232321Z
UID:10001239-1708808400-1708819200@lizardloungeclub.com
SUMMARY:Kimaya Diggs/Jill McCracken
DESCRIPTION:Kimaya Diggs with Jill McCracken live at the Lizard Lounge!\n\n\nMusician Kimaya Diggs navigates her world with stories. Penning her first one-woman show as a little kid\, she’s published fiction\, earned a Callaloo fellowship for poetry\, and works days as a speechwriter—not to mention the accolades her songwriting’s earned\, including a New England Music Awards nod\, gigs at legendary folk haunts like Club Passim\, and appearances at Green River Festival\, Rubblebucket’s Dream Picnic\, and the Emily Dickinson festival. “I’ve always thought of my writing and music as one thing—connective storytelling\,” Diggs explains. But while her mother was sick with a twelve-year illness\, Diggs felt unable to share the whole truth. Her first LP\, 2018’s Breastfed\, was largely about her mom\, but it wasn’t until her passing that Diggs was free to use songwriting to process. “Sharing my grieving experience has resonated with people; they’re excited to hear something that’s not all good\,” notes Diggs. To help cope\, Diggs and her husband Jacob Rosazza—also her musical collaborator—rescued an ex-racing dog\, Quincy. Though they shared only two years together\, caring for the traumatized animal helped Diggs find purpose. “Having him was challenging\, but at the same time\, he’s why we survived the first year without my mom\,” offers Diggs. “It was special to get to love a creature so much—because of\, in spite of\, and in addition to the challenges he came with.” Losing Quincy gave her greater insight on heartache\, so she named her newest album after him. \nhttps://www.kimayadiggs.com/ \n\n\nAS ONE OF BOSTON’S LEADING SINGER-SONGWRITERS\, jill mccracken paints with strokes of compassion and warmth\, using her long-standing love of songcraft to grip listeners to the soft spots of her heart. her ears are trained to translate tenderness into works of art — and so is her eye for sentimental visuals\, thanks in part to her bfa in fine art photography. \nOrigionally from western new york\, mccracken’s obsession with strong songs began at just eight years old\, long before she began tinkering on the guitar and drums as a preteen. it wasn’t until she was 19 that the world got to hear her strongest instrument – her voice – but she’s been using it to embrace crowds ever since. \nhttps://www.jillmccracken.com/
URL:https://lizardloungeclub.com/event/kimaya-diggs-jill-mccracken/
LOCATION:Lizard Lounge\, 1667 Massachusetts Avenue\, Cambridge\, MA\, 02138\, United States
ATTACH;FMTTYPE=image/jpeg:https://lizardloungeclub.com/wp-content/uploads/45e47199f201235bad0b4105023bd035.jpg
END:VEVENT
END:VCALENDAR