BEGIN:VCALENDAR
VERSION:2.0
PRODID:-//Lizard Lounge Club - ECPv6.10.0//NONSGML v1.0//EN
CALSCALE:GREGORIAN
METHOD:PUBLISH
X-WR-CALNAME:Lizard Lounge Club
X-ORIGINAL-URL:https://lizardloungeclub.com
X-WR-CALDESC:Events for Lizard Lounge Club
REFRESH-INTERVAL;VALUE=DURATION:PT1H
X-Robots-Tag:noindex
X-PUBLISHED-TTL:PT1H
BEGIN:VTIMEZONE
TZID:America/New_York
BEGIN:DAYLIGHT
TZOFFSETFROM:-0500
TZOFFSETTO:-0400
TZNAME:EDT
DTSTART:20240310T070000
END:DAYLIGHT
BEGIN:STANDARD
TZOFFSETFROM:-0400
TZOFFSETTO:-0500
TZNAME:EST
DTSTART:20241103T060000
END:STANDARD
END:VTIMEZONE
BEGIN:VEVENT
DTSTART;TZID=America/New_York:20240912T200000
DTEND;TZID=America/New_York:20240912T230000
DTSTAMP:20260422T054019
CREATED:20240717T163823Z
LAST-MODIFIED:20240913T055322Z
UID:10002145-1726171200-1726182000@lizardloungeclub.com
SUMMARY:Big Lazy
DESCRIPTION:Big Lazy returns to the Lizard Lounge!\n\n\nEvent is 21+ \n$18/$22 door \nDoors at 7 \n\n\nNew York City’s gritty instrumental trio has flourished for over 20 years. The band is known for its cinematic music and legendary live performances\, having presented its singular brand of crime jazz at venues including the Whitney Museum of American Art and the Opéra National de Lyon.  Big Lazy founder Stephen Ulrich is the composer for the HBO series Bored to Death  and the art forgery documentary Art and Craft. Big Lazy’s studio albums have included collaborations with NYC artists Marc Ribot and Steven Bernstein.  \n \n     In March of 2023 Barbes Records released the album Music from This American Life (https://stephenulrich.bandcamp.com/album/music-from-this-american-life-album) \, a collection of Ulrich’s compositions from the iconic radio program This American Life. \n \n “Big Lazy\, the elegantly gritty instrumental trio led by the extraordinary guitarist Stephen Ulrich\, plays stunningly beautiful music that evokes everything from truckers’ romps to the haunting film scores of Bernard Herrmann.” The New Yorker \n \n“The Big Apple Crème de la Crème ”  \nRobert Christgau – dean of American rock critics \nBig Lazy
URL:https://lizardloungeclub.com/event/big-lazy-3/
LOCATION:Lizard Lounge\, 1667 Massachusetts Avenue\, Cambridge\, MA\, 02138\, United States
ATTACH;FMTTYPE=image/jpeg:https://lizardloungeclub.com/wp-content/uploads/55fc4a64ff1983dd76e8638754d146da.jpg
END:VEVENT
END:VCALENDAR