BEGIN:VCALENDAR
VERSION:2.0
PRODID:-//Lizard Lounge Club - ECPv6.10.0//NONSGML v1.0//EN
CALSCALE:GREGORIAN
METHOD:PUBLISH
X-WR-CALNAME:Lizard Lounge Club
X-ORIGINAL-URL:https://lizardloungeclub.com
X-WR-CALDESC:Events for Lizard Lounge Club
REFRESH-INTERVAL;VALUE=DURATION:PT1H
X-Robots-Tag:noindex
X-PUBLISHED-TTL:PT1H
BEGIN:VTIMEZONE
TZID:America/New_York
BEGIN:DAYLIGHT
TZOFFSETFROM:-0500
TZOFFSETTO:-0400
TZNAME:EDT
DTSTART:20250309T070000
END:DAYLIGHT
BEGIN:STANDARD
TZOFFSETFROM:-0400
TZOFFSETTO:-0500
TZNAME:EST
DTSTART:20251102T060000
END:STANDARD
END:VTIMEZONE
BEGIN:VEVENT
DTSTART;TZID=America/New_York:20250315T210000
DTEND;TZID=America/New_York:20250315T233000
DTSTAMP:20260422T064353
CREATED:20250219T195325Z
LAST-MODIFIED:20250316T053823Z
UID:10003179-1742072400-1742081400@lizardloungeclub.com
SUMMARY:The Weisstronauts/The Carnivals
DESCRIPTION:The Weisstronauts and The Carnivals meet up March 15th at the Lizard Lounge!\n\n\n$20 adv/$25 doors  \nDoors 8 \nThe Weisstronauts are a hard-to-pigeonhole instrumental ensemble. (Are they a surf band? A boozy lounge act? A countrified chicken-pickin’ combo? A tripped out psych band? A freak-rock monstrosity? A spy movie theme time machine? All of the above?) \nLed by Boston-based producer/engineer/mixer Pete Weiss\, The ‘Nauts have toured all over the east coast and sometimes farther\, releasing seven full-length albums and four mini-albums. Their latest release\, “Hamming It Down\,” peaked at #3 on the national alt-country radio chart in the spring of 2023. As Mojo Flucke of Popdose.com put it\, “Hamming It Down continues the Weisstronauts’ decades-long string of some of most well put-together instrumental albums I’ve ever heard. You can hear shades of everyone from Buck Owens to Wes Montgomery up in there.” \nOr in the words of Richard Bouchard of Boston Band Crush\, the band likes to “toss major surf rock influences into a blender with everything else they’ve ever even sort of liked and pull out songs built on combinations that look insane on paper but absolutely kill once you hear them.” \nwww.weisstronauts.com \n\n\nNew Orleans meets Gloucester Ma. The Carnivals out their own spin on 50’s RnB with frontman Kevin Patey (Raging Teens/Jittery Jack) adding piano\, sax and a full band sound topped off with second vocals from Kea Romani. The ultimate fun time party band! \nThe Carnivals
URL:https://lizardloungeclub.com/event/the-weisstronauts-the-carnivals/
LOCATION:Lizard Lounge\, 1667 Massachusetts Avenue\, Cambridge\, MA\, 02138\, United States
ATTACH;FMTTYPE=image/jpeg:https://lizardloungeclub.com/wp-content/uploads/8b2fe02911b44af1aca9a59290e4c864.jpg
END:VEVENT
END:VCALENDAR