BEGIN:VCALENDAR
VERSION:2.0
PRODID:-//Lizard Lounge Club - ECPv6.10.0//NONSGML v1.0//EN
CALSCALE:GREGORIAN
METHOD:PUBLISH
X-WR-CALNAME:Lizard Lounge Club
X-ORIGINAL-URL:https://lizardloungeclub.com
X-WR-CALDESC:Events for Lizard Lounge Club
REFRESH-INTERVAL;VALUE=DURATION:PT1H
X-Robots-Tag:noindex
X-PUBLISHED-TTL:PT1H
BEGIN:VTIMEZONE
TZID:America/New_York
BEGIN:DAYLIGHT
TZOFFSETFROM:-0500
TZOFFSETTO:-0400
TZNAME:EDT
DTSTART:20250309T070000
END:DAYLIGHT
BEGIN:STANDARD
TZOFFSETFROM:-0400
TZOFFSETTO:-0500
TZNAME:EST
DTSTART:20251102T060000
END:STANDARD
END:VTIMEZONE
BEGIN:VEVENT
DTSTART;TZID=America/New_York:20250709T190000
DTEND;TZID=America/New_York:20250709T223000
DTSTAMP:20260421T120119
CREATED:20250625T162928Z
LAST-MODIFIED:20250710T052924Z
UID:10003286-1752087600-1752100200@lizardloungeclub.com
SUMMARY:Which Side: A Protest Music Teach Out
DESCRIPTION:A concert and discussion series celebrating and exploring protest music beginning July 9th!\n\n\nPay What You Want \nDoors 7\, Music 8 \nWhich Side?: A Protest Music Teach-Out is a concert and discussion series celebrating and exploring protest music. The events will use James Sullivan’s book\, Which Side Are You On?: 20th Century American History in 100 Protest Songs\, as a starting point for the presentation of songs that ask listeners to consider how music gives voice to resistance\, advocacy\, and change. While the series will anchor itself to the book\, collaborators will also contribute 21st-century music\, both originals and covers. \nThe lineup for July 9 includes Jon Butcher\, Joe Gittleman\, Tom Jordan\, Jesse Ahearn \, Robin Lane with Adam Sherman\, and Jen Trynin. They will be backed by the Which Side house band\, called The Paid Protesters\, led by Ed Valauskas\, with Anthony Kaczynski\, Paul Buckley and others. The 90-minute show will also feature commentary by Sullivan\, and a short panel discussion at the end. \nThe show is scheduled to begin promptly at 8 p.m. \nAdmission is pay-what-you-want\, with all proceeds going to the musicians and other direct expenses. Tickets can be reserved\, but a reservation does not guarantee entry unless you are in the room by 7:30 p.m. If there are people waiting for entry\, reservations will be released starting at that time. \nIf there are any profits after workers are paid\, they will be donated to an appropriate non-profit fighting for intellectual freedom in our nation’s courts. \nThis series is produced by Joyce Linehan\, Jon Lupfer\, James Sullivan\, and Ed Valauskas\, with the help of many generous friends.
URL:https://lizardloungeclub.com/event/which-side-a-protest-music-teach-out/
LOCATION:Lizard Lounge\, 1667 Massachusetts Avenue\, Cambridge\, MA\, 02138\, United States
ATTACH;FMTTYPE=image/jpeg:https://lizardloungeclub.com/wp-content/uploads/6192d2f4eaefb7d262be60cac54fe292.jpg
END:VEVENT
END:VCALENDAR