BEGIN:VCALENDAR
VERSION:2.0
PRODID:-//Lizard Lounge Club - ECPv6.10.0//NONSGML v1.0//EN
CALSCALE:GREGORIAN
METHOD:PUBLISH
X-ORIGINAL-URL:https://lizardloungeclub.com
X-WR-CALDESC:Events for Lizard Lounge Club
REFRESH-INTERVAL;VALUE=DURATION:PT1H
X-Robots-Tag:noindex
X-PUBLISHED-TTL:PT1H
BEGIN:VTIMEZONE
TZID:America/New_York
BEGIN:DAYLIGHT
TZOFFSETFROM:-0500
TZOFFSETTO:-0400
TZNAME:EDT
DTSTART:20250309T070000
END:DAYLIGHT
BEGIN:STANDARD
TZOFFSETFROM:-0400
TZOFFSETTO:-0500
TZNAME:EST
DTSTART:20251102T060000
END:STANDARD
END:VTIMEZONE
BEGIN:VEVENT
DTSTART;TZID=America/New_York:20251019T190000
DTEND;TZID=America/New_York:20251019T230000
DTSTAMP:20260422T094443
CREATED:20250815T174441Z
LAST-MODIFIED:20251020T054424Z
UID:10003328-1760900400-1760914800@lizardloungeclub.com
SUMMARY:Lizard Lounge Poetry Jam-Carol Johnson
DESCRIPTION:The Lizard Lounge Poetry Jam with featured poet Carol Johnson\n\n\n$10  \nCarol Johnson is a poet of remembrance\, resistance\, and reclamation. Born into the lineage of Jamestown\, an African American town founded by her fourth great-grandfather Ervin James in South Carolina\, Carol carries the oral traditions of her ancestors with reverence and fire. Her poetry is both witness and offering\, rooted in the rich soil of Black southern life and the enduring legacy of the African diaspora.Her debut poetry collection\, O’Africa\, threads together generations of oral wisdom\, ancestral resilience\, and sharecropper soil\, birthing a tapestry of Pan-African memory\, part poetry\, part prose\, that follows generations of the James family across time\, memory\, and place. Her poems aren’t linear; instead\, they circle and spiral like gospel songs and griot tales—an embodied archive of survival\, faith\, and love. They remember. They reclaim. Spoken with the Sankofa bird perched on her shoulder\, weaving memory\, legacy\, and lyricism into every line\, Carol’s work loops backward to move forward\, retrieving lost histories.Whether performing on stage or writing at her kitchen table\, Carol invokes the sacred responsibility of the storyteller. Her work is especially resonant for those exploring identity\, healing\, and intergenerational legacy. It is a way of speaking truth and conjuring new futures from the bones of the past\, creating space for what has been silenced\, buried\, or forgotten.
URL:https://lizardloungeclub.com/event/lizard-lounge-poetry-jam-carol-johnson/
LOCATION:Lizard Lounge\, 1667 Massachusetts Avenue\, Cambridge\, MA\, 02138\, United States
ATTACH;FMTTYPE=image/jpeg:https://lizardloungeclub.com/wp-content/uploads/cce7db89f55f7a6b594fe1c7672e93c2.jpg
END:VEVENT
END:VCALENDAR