BEGIN:VCALENDAR
VERSION:2.0
PRODID:-//Lizard Lounge Club - ECPv6.10.0//NONSGML v1.0//EN
CALSCALE:GREGORIAN
METHOD:PUBLISH
X-WR-CALNAME:Lizard Lounge Club
X-ORIGINAL-URL:https://lizardloungeclub.com
X-WR-CALDESC:Events for Lizard Lounge Club
REFRESH-INTERVAL;VALUE=DURATION:PT1H
X-Robots-Tag:noindex
X-PUBLISHED-TTL:PT1H
BEGIN:VTIMEZONE
TZID:America/New_York
BEGIN:DAYLIGHT
TZOFFSETFROM:-0500
TZOFFSETTO:-0400
TZNAME:EDT
DTSTART:20260308T070000
END:DAYLIGHT
BEGIN:STANDARD
TZOFFSETFROM:-0400
TZOFFSETTO:-0500
TZNAME:EST
DTSTART:20261101T060000
END:STANDARD
END:VTIMEZONE
BEGIN:VEVENT
DTSTART;TZID=America/New_York:20260419T190000
DTEND;TZID=America/New_York:20260419T223000
DTSTAMP:20260419T110148
CREATED:20260331T131429Z
LAST-MODIFIED:20260419T144531Z
UID:10003496-1776625200-1776637800@lizardloungeclub.com
SUMMARY:Poetry Jam-Levi Lionel Leland
DESCRIPTION:The Lizard Lounge Poetry Jam with featured poet Levi Lionel Leland April 19th!\n\n\n$10 \nJoin us for an evening inside the haunted mind of one of America’s most prolific poets\, Edgar Allan Poe! Share your favorite Poe poem or Poe-inspired original. Featured author and Poe-expert\, Levi Lionel Leland\, will talk about his journey through Poe’s life and works\, and how he came to write his book\, Edgar Allan Poe: The Master of the Macabre. \nLevi Lionel Leland is a born-and-raised Rhode Islander with a near-lifelong passion for Edgar Allan Poe. After tracing Poe’s steps throughout the country\, he turned his focus homeward\, learning all he could about Poe’s time in Providence and the local poet to whom he was engaged in 1848\, Sarah Helen Whitman. Levi created edgarallanpoeri.comand A Walking Tour of Poe’s Providence to share this history with the world. Levi is the author of a recent biography of Poe from Simon & Schuster titled Edgar Allan Poe: The Master of the Macabre. \n \nLizard Lounge Poetry Jam
URL:https://lizardloungeclub.com/event/poetry-jam-levi-lionel-leland/
LOCATION:Lizard Lounge\, 1667 Massachusetts Avenue\, Cambridge\, MA\, 02138\, United States
ATTACH;FMTTYPE=image/jpeg:https://lizardloungeclub.com/wp-content/uploads/548e1361d9c5aa495ba726efb705d467.jpg
END:VEVENT
END:VCALENDAR